BEGIN:VCALENDAR
VERSION:2.0
PRODID:-//SOLO Southeast at Nantahala Outdoor Center - ECPv6.6.4.2//NONSGML v1.0//EN
CALSCALE:GREGORIAN
METHOD:PUBLISH
X-WR-CALNAME:SOLO Southeast at Nantahala Outdoor Center
X-ORIGINAL-URL:https://southeastwildernessmedicine.com
X-WR-CALDESC:Events for SOLO Southeast at Nantahala Outdoor Center
REFRESH-INTERVAL;VALUE=DURATION:PT1H
X-Robots-Tag:noindex
X-PUBLISHED-TTL:PT1H
BEGIN:VTIMEZONE
TZID:UTC
BEGIN:STANDARD
TZOFFSETFROM:+0000
TZOFFSETTO:+0000
TZNAME:UTC
DTSTART:20240101T000000
END:STANDARD
END:VTIMEZONE
BEGIN:VEVENT
DTSTART;TZID=UTC:20241207T080000
DTEND;TZID=UTC:20241207T170000
DTSTAMP:20260421T115131
CREATED:20231011T200425Z
LAST-MODIFIED:20231107T213134Z
UID:1962-1733558400-1733590800@southeastwildernessmedicine.com
SUMMARY:ASHI CPR & AED Certification
DESCRIPTION:
URL:https://southeastwildernessmedicine.com/event/ashi-cpr-aed-certification-31-2-2-2-2-2-2-2-2-2-2-2-2-2-2-2-2-2-2-2-2-2-2-2-2-2-2-2-2-2-2-3-2-2-2-2-2-2-2-2-2-2-2-2-2-2-2-2-2-2-2-2-2-2-2-2-2-3-2-2-2-2-2-2-2-2-2-2-2-2-2-2-2-2-2-2-2-2-2-2-2-2-2-2-2-38/
LOCATION:Bryson City\, NC\, 13077 West Highway 19\, Bryson City\, NC\, 28713\, United States
CATEGORIES:ASHI CPR & AED Certification,Bryson City
END:VEVENT
BEGIN:VEVENT
DTSTART;TZID=UTC:20241207T080000
DTEND;TZID=UTC:20241208T170000
DTSTAMP:20260421T115131
CREATED:20231012T144520Z
LAST-MODIFIED:20231026T194640Z
UID:1992-1733558400-1733677200@southeastwildernessmedicine.com
SUMMARY:Wilderness First Aid
DESCRIPTION:
URL:https://southeastwildernessmedicine.com/event/wilderness-first-aid-3-2-2-2-2-2-2-2-2-2-2-2-2-2-2-2-2-2-2-2-2-2-2-2-2-2-2-2-2-2/
LOCATION:Bryson City\, NC\, 13077 West Highway 19\, Bryson City\, NC\, 28713\, United States
CATEGORIES:Wilderness First Aid
END:VEVENT
BEGIN:VEVENT
DTSTART;TZID=UTC:20241207T080000
DTEND;TZID=UTC:20241215T170000
DTSTAMP:20260421T115131
CREATED:20231013T155724Z
LAST-MODIFIED:20231107T211235Z
UID:2005-1733558400-1734282000@southeastwildernessmedicine.com
SUMMARY:Wilderness First Responder
DESCRIPTION:
URL:https://southeastwildernessmedicine.com/event/wilderness-first-responder-13-2-2-2-2-2-2-2-2-2-3-2-2-2-2-2-2-2-2-2-2-2-3-2-2-2-2-2-2-2-2-2-2-2-2/
LOCATION:Bryson City\, NC\, 13077 West Highway 19\, Bryson City\, NC\, 28713\, United States
CATEGORIES:Wilderness First Responder
END:VEVENT
BEGIN:VEVENT
DTSTART;TZID=UTC:20241209T080000
DTEND;TZID=UTC:20241210T170000
DTSTAMP:20260421T115131
CREATED:20241017T153136Z
LAST-MODIFIED:20241017T153136Z
UID:2434-1733731200-1733850000@southeastwildernessmedicine.com
SUMMARY:Wilderness First Responder Recertification
DESCRIPTION:
URL:https://southeastwildernessmedicine.com/event/wilderness-first-responder-recertification-15-2-2-2-2-2-2-2-2-2-2-2-2-2-2-2-2-2-2-2-2-2-2-2-2-2-2-2-3-2-2-2-2-2-2-3-2-2-2-2-2-2-2-2-2-2-2-2-2-2-2-2-2-2-2-2-2-2-2-2-2-2-3-2/
LOCATION:Chattanooga\, TN
CATEGORIES:Wilderness First Responder Recertification
END:VEVENT
BEGIN:VEVENT
DTSTART;TZID=UTC:20241214T080000
DTEND;TZID=UTC:20241214T170000
DTSTAMP:20260421T115131
CREATED:20231011T194837Z
LAST-MODIFIED:20231012T143551Z
UID:1937-1734163200-1734195600@southeastwildernessmedicine.com
SUMMARY:ASHI CPR & AED Certification
DESCRIPTION:
URL:https://southeastwildernessmedicine.com/event/ashi-cpr-aed-certification-31-2-2-2-2-2-2-2-2-2-2-2-2-2-2-2-2-2-2-2-2-2-2-2-2-2-2-2-2-2-2-3-2-2-2-2-2-2-2-2-2-2-2-2-2-2-2-2-2-2-2-2-2-2-2-2-2-3-2-2-2-2-2-2-2-2-2-2-2-2-2-2-2-2-2-2-2-2-2-2-2-2-2-2-2-13/
LOCATION:Atlanta\, GA
CATEGORIES:ASHI CPR & AED Certification
END:VEVENT
BEGIN:VEVENT
DTSTART;TZID=UTC:20241214T080000
DTEND;TZID=UTC:20241214T170000
DTSTAMP:20260421T115131
CREATED:20231011T200442Z
LAST-MODIFIED:20231107T213123Z
UID:1963-1734163200-1734195600@southeastwildernessmedicine.com
SUMMARY:ASHI CPR & AED Certification
DESCRIPTION:
URL:https://southeastwildernessmedicine.com/event/ashi-cpr-aed-certification-31-2-2-2-2-2-2-2-2-2-2-2-2-2-2-2-2-2-2-2-2-2-2-2-2-2-2-2-2-2-2-3-2-2-2-2-2-2-2-2-2-2-2-2-2-2-2-2-2-2-2-2-2-2-2-2-2-3-2-2-2-2-2-2-2-2-2-2-2-2-2-2-2-2-2-2-2-2-2-2-2-2-2-2-2-39/
LOCATION:Bryson City\, NC\, 13077 West Highway 19\, Bryson City\, NC\, 28713\, United States
CATEGORIES:ASHI CPR & AED Certification,Bryson City
END:VEVENT
END:VCALENDAR