BEGIN:VCALENDAR
VERSION:2.0
PRODID:-//SOLO Southeast at Nantahala Outdoor Center - ECPv6.6.4.2//NONSGML v1.0//EN
CALSCALE:GREGORIAN
METHOD:PUBLISH
X-ORIGINAL-URL:https://southeastwildernessmedicine.com
X-WR-CALDESC:Events for SOLO Southeast at Nantahala Outdoor Center
REFRESH-INTERVAL;VALUE=DURATION:PT1H
X-Robots-Tag:noindex
X-PUBLISHED-TTL:PT1H
BEGIN:VTIMEZONE
TZID:UTC
BEGIN:STANDARD
TZOFFSETFROM:+0000
TZOFFSETTO:+0000
TZNAME:UTC
DTSTART:20240101T000000
END:STANDARD
END:VTIMEZONE
BEGIN:VEVENT
DTSTART;TZID=UTC:20241030T080000
DTEND;TZID=UTC:20241103T170000
DTSTAMP:20260421T083438
CREATED:20240415T204422Z
LAST-MODIFIED:20240415T204422Z
UID:2158-1730275200-1730653200@southeastwildernessmedicine.com
SUMMARY:Wilderness Survival Instructor Training
DESCRIPTION:
URL:https://southeastwildernessmedicine.com/event/wilderness-survival-instructor-training-2-2-2-2-2-2-2-2/
LOCATION:Bryson City\, NC\, 13077 West Highway 19\, Bryson City\, NC\, 28713\, United States
CATEGORIES:Backcountry Survival Instructor Training
END:VEVENT
BEGIN:VEVENT
DTSTART;TZID=UTC:20241102T080000
DTEND;TZID=UTC:20241102T170000
DTSTAMP:20260421T083438
CREATED:20231011T194813Z
LAST-MODIFIED:20231012T143557Z
UID:1936-1730534400-1730566800@southeastwildernessmedicine.com
SUMMARY:ASHI CPR & AED Certification
DESCRIPTION:
URL:https://southeastwildernessmedicine.com/event/ashi-cpr-aed-certification-31-2-2-2-2-2-2-2-2-2-2-2-2-2-2-2-2-2-2-2-2-2-2-2-2-2-2-2-2-2-2-3-2-2-2-2-2-2-2-2-2-2-2-2-2-2-2-2-2-2-2-2-2-2-2-2-2-3-2-2-2-2-2-2-2-2-2-2-2-2-2-2-2-2-2-2-2-2-2-2-2-2-2-2-2-12/
LOCATION:Atlanta\, GA
CATEGORIES:ASHI CPR & AED Certification
END:VEVENT
BEGIN:VEVENT
DTSTART;TZID=UTC:20241102T080000
DTEND;TZID=UTC:20241103T170000
DTSTAMP:20260421T083438
CREATED:20231012T142121Z
LAST-MODIFIED:20231026T194851Z
UID:1977-1730534400-1730653200@southeastwildernessmedicine.com
SUMMARY:Wilderness First Aid
DESCRIPTION:
URL:https://southeastwildernessmedicine.com/event/wilderness-first-aid-3-2-2-2-2-2-2-2-2-2-2-2-2-2-2-2/
LOCATION:Atlanta\, GA
CATEGORIES:Wilderness First Aid
END:VEVENT
BEGIN:VEVENT
DTSTART;TZID=UTC:20241109T080000
DTEND;TZID=UTC:20241109T170000
DTSTAMP:20260421T083438
CREATED:20231218T194719Z
LAST-MODIFIED:20231218T194719Z
UID:2100-1731139200-1731171600@southeastwildernessmedicine.com
SUMMARY:ASHI CPR & AED Certification
DESCRIPTION:
URL:https://southeastwildernessmedicine.com/event/ashi-cpr-aed-certification-31-2-2-2-2-2-2-2-2-2-2-2-2-2-2-2-2-2-2-2-2-2-2-2-2-2-2-2-2-2-2-3-2-2-2-2-2-2-2-2-2-2-2-2-2-2-2-2-2-2-2-2-2-2-2-2-2-3-2-2-2-2-2-2-2-2-2-2-2-2-2-2-2-2-2-2-2-2-2-2-2-2-3-2-2-3/
LOCATION:Greenville\, SC\, Pleasant Ridge Park\, Greenville\, SC\, 29661\, United States
CATEGORIES:ASHI CPR & AED Certification
END:VEVENT
BEGIN:VEVENT
DTSTART;TZID=UTC:20241109T080000
DTEND;TZID=UTC:20241110T170000
DTSTAMP:20260421T083438
CREATED:20231218T194529Z
LAST-MODIFIED:20240430T131137Z
UID:2098-1731139200-1731258000@southeastwildernessmedicine.com
SUMMARY:Wilderness First Aid
DESCRIPTION:
URL:https://southeastwildernessmedicine.com/event/wilderness-first-aid-3-2-2-3-2/
LOCATION:Greenville\, SC\, Pleasant Ridge Park\, Greenville\, SC\, 29661\, United States
CATEGORIES:Wilderness First Aid
END:VEVENT
BEGIN:VEVENT
DTSTART;TZID=UTC:20241109T080000
DTEND;TZID=UTC:20241117T170000
DTSTAMP:20260421T083438
CREATED:20231013T155708Z
LAST-MODIFIED:20231107T211253Z
UID:2004-1731139200-1731862800@southeastwildernessmedicine.com
SUMMARY:Wilderness First Responder
DESCRIPTION:
URL:https://southeastwildernessmedicine.com/event/wilderness-first-responder-13-2-2-2-2-2-2-2-2-2-3-2-2-2-2-2-2-2-2-2-2-2-3-2-2-2-2-2-2-2-2-2-2-2/
LOCATION:Bryson City\, NC\, 13077 West Highway 19\, Bryson City\, NC\, 28713\, United States
CATEGORIES:Wilderness First Responder
END:VEVENT
BEGIN:VEVENT
DTSTART;TZID=UTC:20241116T080000
DTEND;TZID=UTC:20241116T170000
DTSTAMP:20260421T083438
CREATED:20231011T200347Z
LAST-MODIFIED:20231107T213143Z
UID:1960-1731744000-1731776400@southeastwildernessmedicine.com
SUMMARY:ASHI CPR & AED Certification
DESCRIPTION:
URL:https://southeastwildernessmedicine.com/event/ashi-cpr-aed-certification-31-2-2-2-2-2-2-2-2-2-2-2-2-2-2-2-2-2-2-2-2-2-2-2-2-2-2-2-2-2-2-3-2-2-2-2-2-2-2-2-2-2-2-2-2-2-2-2-2-2-2-2-2-2-2-2-2-3-2-2-2-2-2-2-2-2-2-2-2-2-2-2-2-2-2-2-2-2-2-2-2-2-2-2-2-36/
LOCATION:Bryson City\, NC\, 13077 West Highway 19\, Bryson City\, NC\, 28713\, United States
CATEGORIES:ASHI CPR & AED Certification,Bryson City
END:VEVENT
BEGIN:VEVENT
DTSTART;TZID=UTC:20241116T080000
DTEND;TZID=UTC:20241117T080000
DTSTAMP:20260421T083438
CREATED:20231013T162232Z
LAST-MODIFIED:20231026T191001Z
UID:2017-1731744000-1731830400@southeastwildernessmedicine.com
SUMMARY:Wilderness First Responder Recertification
DESCRIPTION:
URL:https://southeastwildernessmedicine.com/event/wilderness-first-responder-recertification-15-2-2-2-2-2-2-2-2-2-2-2-2-2-2-2-2-2-2-2-2-2-2-2-2-2-2-2-3-2-2-2-2-2-2-3-2-2-2-2-2-2-2-2-2-2-2-2-2/
LOCATION:Bryson City\, NC\, 13077 West Highway 19\, Bryson City\, NC\, 28713\, United States
CATEGORIES:Wilderness First Responder Recertification
END:VEVENT
BEGIN:VEVENT
DTSTART;TZID=UTC:20241123T080000
DTEND;TZID=UTC:20241123T170000
DTSTAMP:20260421T083438
CREATED:20231011T200406Z
LAST-MODIFIED:20231107T213138Z
UID:1961-1732348800-1732381200@southeastwildernessmedicine.com
SUMMARY:ASHI CPR & AED Certification
DESCRIPTION:
URL:https://southeastwildernessmedicine.com/event/ashi-cpr-aed-certification-31-2-2-2-2-2-2-2-2-2-2-2-2-2-2-2-2-2-2-2-2-2-2-2-2-2-2-2-2-2-2-3-2-2-2-2-2-2-2-2-2-2-2-2-2-2-2-2-2-2-2-2-2-2-2-2-2-3-2-2-2-2-2-2-2-2-2-2-2-2-2-2-2-2-2-2-2-2-2-2-2-2-2-2-2-37/
LOCATION:Bryson City\, NC\, 13077 West Highway 19\, Bryson City\, NC\, 28713\, United States
CATEGORIES:ASHI CPR & AED Certification,Bryson City
END:VEVENT
BEGIN:VEVENT
DTSTART;TZID=UTC:20241123T080000
DTEND;TZID=UTC:20241124T170000
DTSTAMP:20260421T083438
CREATED:20231012T144506Z
LAST-MODIFIED:20231026T194647Z
UID:1991-1732348800-1732467600@southeastwildernessmedicine.com
SUMMARY:Wilderness First Aid
DESCRIPTION:
URL:https://southeastwildernessmedicine.com/event/wilderness-first-aid-3-2-2-2-2-2-2-2-2-2-2-2-2-2-2-2-2-2-2-2-2-2-2-2-2-2-2-2-2/
LOCATION:Bryson City\, NC\, 13077 West Highway 19\, Bryson City\, NC\, 28713\, United States
CATEGORIES:Wilderness First Aid
END:VEVENT
END:VCALENDAR