BEGIN:VCALENDAR
VERSION:2.0
PRODID:-//SOLO Southeast at Nantahala Outdoor Center - ECPv6.6.4.2//NONSGML v1.0//EN
CALSCALE:GREGORIAN
METHOD:PUBLISH
X-WR-CALNAME:SOLO Southeast at Nantahala Outdoor Center
X-ORIGINAL-URL:https://southeastwildernessmedicine.com
X-WR-CALDESC:Events for SOLO Southeast at Nantahala Outdoor Center
REFRESH-INTERVAL;VALUE=DURATION:PT1H
X-Robots-Tag:noindex
X-PUBLISHED-TTL:PT1H
BEGIN:VTIMEZONE
TZID:UTC
BEGIN:STANDARD
TZOFFSETFROM:+0000
TZOFFSETTO:+0000
TZNAME:UTC
DTSTART:20230101T000000
END:STANDARD
END:VTIMEZONE
BEGIN:VEVENT
DTSTART;TZID=UTC:20230429T080000
DTEND;TZID=UTC:20230503T170000
DTSTAMP:20260421T153558
CREATED:20221216T190402Z
LAST-MODIFIED:20221216T190402Z
UID:1808-1682755200-1683133200@southeastwildernessmedicine.com
SUMMARY:Wilderness Survival Instructor Training
DESCRIPTION:
URL:https://southeastwildernessmedicine.com/event/wilderness-survival-instructor-training-2-2-2-2-2-2/
LOCATION:Bryson City\, NC\, 13077 West Highway 19\, Bryson City\, NC\, 28713\, United States
CATEGORIES:Backcountry Survival Instructor Training
END:VEVENT
BEGIN:VEVENT
DTSTART;TZID=UTC:20230502T080000
DTEND;TZID=UTC:20230510T170000
DTSTAMP:20260421T153558
CREATED:20221121T163753Z
LAST-MODIFIED:20230113T195001Z
UID:1768-1683014400-1683738000@southeastwildernessmedicine.com
SUMMARY:Wilderness First Responder
DESCRIPTION:
URL:https://southeastwildernessmedicine.com/event/wilderness-first-responder-13-2-2-2-2-2-2-2-2-2-3-2-2-2-2-2-2-2-2-2-2-2-3/
LOCATION:Bryson City\, NC\, 13077 West Highway 19\, Bryson City\, NC\, 28713\, United States
CATEGORIES:Wilderness First Responder
END:VEVENT
BEGIN:VEVENT
DTSTART;TZID=UTC:20230506T080000
DTEND;TZID=UTC:20230506T170000
DTSTAMP:20260421T153558
CREATED:20220815T192033Z
LAST-MODIFIED:20221216T184522Z
UID:1655-1683360000-1683392400@southeastwildernessmedicine.com
SUMMARY:ASHI CPR & AED Certification
DESCRIPTION:
URL:https://southeastwildernessmedicine.com/event/ashi-cpr-aed-certification-31-2-2-2-2-2-2-2-2-2-2-2-2-2-2-2-2-2-2-2-2-2-2-2-2-2-2-2-2-2-2-3-2-2-2-2-2-2-2-2-2-2-2-2-2-2-2-2-2-2-2-2-2-2-2-2-2-3-2-2-2-2-2-2-2-2/
LOCATION:Bryson City\, NC\, 13077 West Highway 19\, Bryson City\, NC\, 28713\, United States
CATEGORIES:ASHI CPR & AED Certification,Bryson City
END:VEVENT
BEGIN:VEVENT
DTSTART;TZID=UTC:20230506T080000
DTEND;TZID=UTC:20230507T170000
DTSTAMP:20260421T153558
CREATED:20220815T194833Z
LAST-MODIFIED:20221216T212027Z
UID:1686-1683360000-1683478800@southeastwildernessmedicine.com
SUMMARY:Wilderness First Aid
DESCRIPTION:
URL:https://southeastwildernessmedicine.com/event/wilderness-first-aid-18-2-4-2-2-2-2-2-2-3-2-2-2-2-2-2-2-2-3-2-2-2-2-2-2-2-2-2-2-2-2-2-2-2-2-2/
LOCATION:Bryson City\, NC\, 13077 West Highway 19\, Bryson City\, NC\, 28713\, United States
CATEGORIES:Bryson City,Wilderness First Aid
END:VEVENT
BEGIN:VEVENT
DTSTART;TZID=UTC:20230506T080000
DTEND;TZID=UTC:20230507T170000
DTSTAMP:20260421T153558
CREATED:20221216T181512Z
LAST-MODIFIED:20230119T162005Z
UID:1796-1683360000-1683478800@southeastwildernessmedicine.com
SUMMARY:2-Day Wilderness Survival
DESCRIPTION:
URL:https://southeastwildernessmedicine.com/event/introduction-to-wilderness-survival-2-2-2-2-2-2-2-2-2-2-2-2-2-2-2-2-3-2/
LOCATION:Bryson City\, NC\, 13077 West Highway 19\, Bryson City\, NC\, 28713\, United States
CATEGORIES:Wilderness Survival 1
END:VEVENT
BEGIN:VEVENT
DTSTART;TZID=UTC:20230509T080000
DTEND;TZID=UTC:20230510T080000
DTSTAMP:20260421T153558
CREATED:20220815T212831Z
LAST-MODIFIED:20221216T195312Z
UID:1734-1683619200-1683705600@southeastwildernessmedicine.com
SUMMARY:Wilderness First Responder Recertification
DESCRIPTION:
URL:https://southeastwildernessmedicine.com/event/wilderness-first-responder-recertification-15-2-2-2-2-2-2-2-2-2-2-2-2-2-2-2-2-2-2-2-2-2-2-2-2-2-2-2-3-2-2-2-2-2-2-3/
LOCATION:Bryson City\, NC\, 13077 West Highway 19\, Bryson City\, NC\, 28713\, United States
CATEGORIES:Wilderness First Responder Recertification
END:VEVENT
BEGIN:VEVENT
DTSTART;TZID=UTC:20230509T080000
DTEND;TZID=UTC:20230517T170000
DTSTAMP:20260421T153558
CREATED:20230113T195225Z
LAST-MODIFIED:20230113T195225Z
UID:1832-1683619200-1684342800@southeastwildernessmedicine.com
SUMMARY:Wilderness First Responder
DESCRIPTION:
URL:https://southeastwildernessmedicine.com/event/wilderness-first-responder-13-2-2-2-2-2-2-2-2-2-3-2-2-2-2-2-2-2-2-2-2-2-3-2/
LOCATION:Collegedale\, TN
CATEGORIES:Wilderness First Responder
END:VEVENT
BEGIN:VEVENT
DTSTART;TZID=UTC:20230513T080000
DTEND;TZID=UTC:20230513T170000
DTSTAMP:20260421T153558
CREATED:20220815T193432Z
LAST-MODIFIED:20221216T183548Z
UID:1675-1683964800-1683997200@southeastwildernessmedicine.com
SUMMARY:ASHI CPR & AED Certification - Roswell
DESCRIPTION:
URL:https://southeastwildernessmedicine.com/event/ashi-cpr-aed-certification-atlanta-johnson-ferry-5-2-3-2-2-2-2-2-2-3-2-2-2-2/
LOCATION:Atlanta\, GA
CATEGORIES:ASHI CPR & AED Certification,Atlanta
END:VEVENT
BEGIN:VEVENT
DTSTART;TZID=UTC:20230513T080000
DTEND;TZID=UTC:20230513T170000
DTSTAMP:20260421T153558
CREATED:20220815T193453Z
LAST-MODIFIED:20221216T183604Z
UID:1676-1683964800-1683997200@southeastwildernessmedicine.com
SUMMARY:ASHI CPR & AED Certification - Roswell
DESCRIPTION:
URL:https://southeastwildernessmedicine.com/event/ashi-cpr-aed-certification-atlanta-johnson-ferry-5-2-3-2-2-2-2-2-2-3-2-2-2-2-2/
LOCATION:Atlanta\, GA
CATEGORIES:ASHI CPR & AED Certification,Atlanta
END:VEVENT
BEGIN:VEVENT
DTSTART;TZID=UTC:20230513T080000
DTEND;TZID=UTC:20230514T170000
DTSTAMP:20260421T153558
CREATED:20220715T180356Z
LAST-MODIFIED:20221216T183952Z
UID:1611-1683964800-1684083600@southeastwildernessmedicine.com
SUMMARY:Wilderness First Aid
DESCRIPTION:
URL:https://southeastwildernessmedicine.com/event/wilderness-first-aid-18-2-4-2-2-2-2-2-2-3-2-2-2-2-2-2-2-2-3-2-2-2-2-2-2/
LOCATION:Atlanta\, GA
CATEGORIES:Roswell,Wilderness First Aid
END:VEVENT
BEGIN:VEVENT
DTSTART;TZID=UTC:20230520T080000
DTEND;TZID=UTC:20230520T170000
DTSTAMP:20260421T153558
CREATED:20220815T192114Z
LAST-MODIFIED:20221216T184529Z
UID:1656-1684569600-1684602000@southeastwildernessmedicine.com
SUMMARY:ASHI CPR & AED Certification
DESCRIPTION:
URL:https://southeastwildernessmedicine.com/event/ashi-cpr-aed-certification-31-2-2-2-2-2-2-2-2-2-2-2-2-2-2-2-2-2-2-2-2-2-2-2-2-2-2-2-2-2-2-3-2-2-2-2-2-2-2-2-2-2-2-2-2-2-2-2-2-2-2-2-2-2-2-2-2-3-2-2-2-2-2-2-2-2-2/
LOCATION:Bryson City\, NC\, 13077 West Highway 19\, Bryson City\, NC\, 28713\, United States
CATEGORIES:ASHI CPR & AED Certification,Bryson City
END:VEVENT
BEGIN:VEVENT
DTSTART;TZID=UTC:20230520T080000
DTEND;TZID=UTC:20230521T080000
DTSTAMP:20260421T153558
CREATED:20220815T202302Z
LAST-MODIFIED:20221216T195322Z
UID:1710-1684569600-1684656000@southeastwildernessmedicine.com
SUMMARY:Wilderness First Responder Recertification
DESCRIPTION:
URL:https://southeastwildernessmedicine.com/event/wilderness-first-responder-recertification-15-2-2-2-2-2-2-2-2-2-2-2-2-2-2-2-2-2-2-2-2-2-2-2-2-2-2-2-3-2-2-2-2-2-2/
LOCATION:Bryson City\, NC\, 13077 West Highway 19\, Bryson City\, NC\, 28713\, United States
CATEGORIES:Wilderness First Responder Recertification
END:VEVENT
BEGIN:VEVENT
DTSTART;TZID=UTC:20230522T080000
DTEND;TZID=UTC:20230522T170000
DTSTAMP:20260421T153558
CREATED:20220815T192134Z
LAST-MODIFIED:20221216T184539Z
UID:1657-1684742400-1684774800@southeastwildernessmedicine.com
SUMMARY:ASHI CPR & AED Certification
DESCRIPTION:
URL:https://southeastwildernessmedicine.com/event/ashi-cpr-aed-certification-31-2-2-2-2-2-2-2-2-2-2-2-2-2-2-2-2-2-2-2-2-2-2-2-2-2-2-2-2-2-2-3-2-2-2-2-2-2-2-2-2-2-2-2-2-2-2-2-2-2-2-2-2-2-2-2-2-3-2-2-2-2-2-2-2-2-2-2/
LOCATION:Bryson City\, NC\, 13077 West Highway 19\, Bryson City\, NC\, 28713\, United States
CATEGORIES:ASHI CPR & AED Certification,Bryson City
END:VEVENT
END:VCALENDAR