BEGIN:VCALENDAR
VERSION:2.0
PRODID:-//SOLO Southeast at Nantahala Outdoor Center - ECPv6.6.4.2//NONSGML v1.0//EN
CALSCALE:GREGORIAN
METHOD:PUBLISH
X-WR-CALNAME:SOLO Southeast at Nantahala Outdoor Center
X-ORIGINAL-URL:https://southeastwildernessmedicine.com
X-WR-CALDESC:Events for SOLO Southeast at Nantahala Outdoor Center
REFRESH-INTERVAL;VALUE=DURATION:PT1H
X-Robots-Tag:noindex
X-PUBLISHED-TTL:PT1H
BEGIN:VTIMEZONE
TZID:UTC
BEGIN:STANDARD
TZOFFSETFROM:+0000
TZOFFSETTO:+0000
TZNAME:UTC
DTSTART:20230101T000000
END:STANDARD
END:VTIMEZONE
BEGIN:VEVENT
DTSTART;TZID=UTC:20230121T080000
DTEND;TZID=UTC:20230122T170000
DTSTAMP:20260423T065008
CREATED:20220715T175800Z
LAST-MODIFIED:20221210T173729Z
UID:1607-1674288000-1674406800@southeastwildernessmedicine.com
SUMMARY:Wilderness First Aid
DESCRIPTION:
URL:https://southeastwildernessmedicine.com/event/wilderness-first-aid-18-2-4-2-2-2-2-2-2-3-2-2-2-2-2-2-2-2-3-2-2/
LOCATION:Atlanta\, GA
CATEGORIES:Roswell,Wilderness First Aid
END:VEVENT
END:VCALENDAR