BEGIN:VCALENDAR
VERSION:2.0
PRODID:-//SOLO Southeast at Nantahala Outdoor Center - ECPv6.6.4.2//NONSGML v1.0//EN
CALSCALE:GREGORIAN
METHOD:PUBLISH
X-ORIGINAL-URL:https://southeastwildernessmedicine.com
X-WR-CALDESC:Events for SOLO Southeast at Nantahala Outdoor Center
REFRESH-INTERVAL;VALUE=DURATION:PT1H
X-Robots-Tag:noindex
X-PUBLISHED-TTL:PT1H
BEGIN:VTIMEZONE
TZID:UTC
BEGIN:STANDARD
TZOFFSETFROM:+0000
TZOFFSETTO:+0000
TZNAME:UTC
DTSTART:20230101T000000
END:STANDARD
END:VTIMEZONE
BEGIN:VEVENT
DTSTART;TZID=UTC:20230513T080000
DTEND;TZID=UTC:20230513T170000
DTSTAMP:20260422T010553
CREATED:20220815T193453Z
LAST-MODIFIED:20221216T183604Z
UID:1676-1683964800-1683997200@southeastwildernessmedicine.com
SUMMARY:ASHI CPR & AED Certification - Roswell
DESCRIPTION:
URL:https://southeastwildernessmedicine.com/event/ashi-cpr-aed-certification-atlanta-johnson-ferry-5-2-3-2-2-2-2-2-2-3-2-2-2-2-2/
LOCATION:Atlanta\, GA
CATEGORIES:ASHI CPR & AED Certification,Atlanta
END:VEVENT
BEGIN:VEVENT
DTSTART;TZID=UTC:20230513T080000
DTEND;TZID=UTC:20230513T170000
DTSTAMP:20260422T010553
CREATED:20220815T193432Z
LAST-MODIFIED:20221216T183548Z
UID:1675-1683964800-1683997200@southeastwildernessmedicine.com
SUMMARY:ASHI CPR & AED Certification - Roswell
DESCRIPTION:
URL:https://southeastwildernessmedicine.com/event/ashi-cpr-aed-certification-atlanta-johnson-ferry-5-2-3-2-2-2-2-2-2-3-2-2-2-2/
LOCATION:Atlanta\, GA
CATEGORIES:ASHI CPR & AED Certification,Atlanta
END:VEVENT
BEGIN:VEVENT
DTSTART;TZID=UTC:20230408T080000
DTEND;TZID=UTC:20230408T170000
DTSTAMP:20260422T010553
CREATED:20220815T193405Z
LAST-MODIFIED:20221216T183540Z
UID:1674-1680940800-1680973200@southeastwildernessmedicine.com
SUMMARY:ASHI CPR & AED Certification - Roswell
DESCRIPTION:
URL:https://southeastwildernessmedicine.com/event/ashi-cpr-aed-certification-atlanta-johnson-ferry-5-2-3-2-2-2-2-2-2-3-2-2-2/
LOCATION:Atlanta\, GA
CATEGORIES:ASHI CPR & AED Certification,Atlanta
END:VEVENT
BEGIN:VEVENT
DTSTART;TZID=UTC:20230304T080000
DTEND;TZID=UTC:20230304T170000
DTSTAMP:20260422T010553
CREATED:20220815T193336Z
LAST-MODIFIED:20221216T183532Z
UID:1673-1677916800-1677949200@southeastwildernessmedicine.com
SUMMARY:ASHI CPR & AED Certification - Roswell
DESCRIPTION:
URL:https://southeastwildernessmedicine.com/event/ashi-cpr-aed-certification-atlanta-johnson-ferry-5-2-3-2-2-2-2-2-2-3-2-2/
LOCATION:Atlanta\, GA
CATEGORIES:ASHI CPR & AED Certification,Atlanta
END:VEVENT
BEGIN:VEVENT
DTSTART;TZID=UTC:20230218T080000
DTEND;TZID=UTC:20230218T170000
DTSTAMP:20260422T010553
CREATED:20220815T193309Z
LAST-MODIFIED:20221216T183524Z
UID:1672-1676707200-1676739600@southeastwildernessmedicine.com
SUMMARY:ASHI CPR & AED Certification - Roswell
DESCRIPTION:
URL:https://southeastwildernessmedicine.com/event/ashi-cpr-aed-certification-atlanta-johnson-ferry-5-2-3-2-2-2-2-2-2-3-2/
LOCATION:Atlanta\, GA
CATEGORIES:ASHI CPR & AED Certification,Atlanta
END:VEVENT
BEGIN:VEVENT
DTSTART;TZID=UTC:20230121T080000
DTEND;TZID=UTC:20230121T170000
DTSTAMP:20260422T010553
CREATED:20220815T193243Z
LAST-MODIFIED:20221216T183515Z
UID:1671-1674288000-1674320400@southeastwildernessmedicine.com
SUMMARY:ASHI CPR & AED Certification - Roswell
DESCRIPTION:
URL:https://southeastwildernessmedicine.com/event/ashi-cpr-aed-certification-atlanta-johnson-ferry-5-2-3-2-2-2-2-2-2-3/
LOCATION:Atlanta\, GA
CATEGORIES:ASHI CPR & AED Certification,Atlanta
END:VEVENT
END:VCALENDAR