BEGIN:VCALENDAR
VERSION:2.0
PRODID:-//SOLO Southeast at Nantahala Outdoor Center - ECPv6.6.4.2//NONSGML v1.0//EN
CALSCALE:GREGORIAN
METHOD:PUBLISH
X-ORIGINAL-URL:https://southeastwildernessmedicine.com
X-WR-CALDESC:Events for SOLO Southeast at Nantahala Outdoor Center
REFRESH-INTERVAL;VALUE=DURATION:PT1H
X-Robots-Tag:noindex
X-PUBLISHED-TTL:PT1H
BEGIN:VTIMEZONE
TZID:UTC
BEGIN:STANDARD
TZOFFSETFROM:+0000
TZOFFSETTO:+0000
TZNAME:UTC
DTSTART:20230101T000000
END:STANDARD
END:VTIMEZONE
BEGIN:VEVENT
DTSTART;TZID=UTC:20251025T080000
DTEND;TZID=UTC:20251026T170000
DTSTAMP:20260421T231418
CREATED:20250915T193355Z
LAST-MODIFIED:20251211T211633Z
UID:2876-1761379200-1761498000@southeastwildernessmedicine.com
SUMMARY:Wilderness First Aid
DESCRIPTION:
URL:https://southeastwildernessmedicine.com/event/wilderness-first-aid-3-2-2-2-2-2-2-2-2-2-2-2-2-2-2-2-2-2-2-2-2-2-2-2-2-2-2-2-2-2-2-2-2-2-2-2-2-2-2-2-2-2-2-2-2-2-4-2-2-3/
LOCATION:Atlanta\, GA
CATEGORIES:Atlanta,Wilderness First Aid
END:VEVENT
BEGIN:VEVENT
DTSTART;TZID=UTC:20251025T080000
DTEND;TZID=UTC:20251025T180000
DTSTAMP:20260421T231418
CREATED:20250915T193240Z
LAST-MODIFIED:20250915T193906Z
UID:2873-1761379200-1761415200@southeastwildernessmedicine.com
SUMMARY:ASHI CPR & AED Certification
DESCRIPTION:
URL:https://southeastwildernessmedicine.com/event/ashi-cpr-aed-certification-31-2-2-2-2-2-2-2-2-2-2-2-2-2-2-2-2-2-2-2-2-2-2-2-2-2-2-2-2-2-2-3-2-2-2-2-2-2-2-2-2-2-2-2-2-2-2-2-2-2-2-2-2-2-2-2-2-3-2-2-2-2-2-2-2-2-2-2-2-2-2-2-2-2-2-2-2-2-2-2-2-2-2-2-2-97/
LOCATION:Atlanta\, GA
CATEGORIES:ASHI CPR & AED Certification,Atlanta
END:VEVENT
BEGIN:VEVENT
DTSTART;TZID=UTC:20231202T080000
DTEND;TZID=UTC:20231202T170000
DTSTAMP:20260421T231418
CREATED:20220815T205757Z
LAST-MODIFIED:20230728T182238Z
UID:1726-1701504000-1701536400@southeastwildernessmedicine.com
SUMMARY:ASHI CPR & AED Certification - Roswell
DESCRIPTION:
URL:https://southeastwildernessmedicine.com/event/ashi-cpr-aed-certification-atlanta-johnson-ferry-5-2-3-2-2-2-2-2-2-3-2-2-2-2-2-2-2-2-2-2-2-2/
LOCATION:Atlanta\, GA
CATEGORIES:ASHI CPR & AED Certification,Atlanta
END:VEVENT
BEGIN:VEVENT
DTSTART;TZID=UTC:20231202T080000
DTEND;TZID=UTC:20231202T170000
DTSTAMP:20260421T231418
CREATED:20220815T193708Z
LAST-MODIFIED:20230728T182255Z
UID:1681-1701504000-1701536400@southeastwildernessmedicine.com
SUMMARY:ASHI CPR & AED Certification - Roswell
DESCRIPTION:
URL:https://southeastwildernessmedicine.com/event/ashi-cpr-aed-certification-atlanta-johnson-ferry-5-2-3-2-2-2-2-2-2-3-2-2-2-2-2-2-2-2-2-2/
LOCATION:Atlanta\, GA
CATEGORIES:ASHI CPR & AED Certification,Atlanta
END:VEVENT
BEGIN:VEVENT
DTSTART;TZID=UTC:20231111T080000
DTEND;TZID=UTC:20231111T170000
DTSTAMP:20260421T231418
CREATED:20220815T205639Z
LAST-MODIFIED:20230728T182816Z
UID:1725-1699689600-1699722000@southeastwildernessmedicine.com
SUMMARY:ASHI CPR & AED Certification - Roswell
DESCRIPTION:
URL:https://southeastwildernessmedicine.com/event/ashi-cpr-aed-certification-atlanta-johnson-ferry-5-2-3-2-2-2-2-2-2-3-2-2-2-2-2-2-2-2-2-2-2/
LOCATION:Atlanta\, GA
CATEGORIES:ASHI CPR & AED Certification,Atlanta
END:VEVENT
BEGIN:VEVENT
DTSTART;TZID=UTC:20231021T080000
DTEND;TZID=UTC:20231021T170000
DTSTAMP:20260421T231418
CREATED:20220815T193647Z
LAST-MODIFIED:20230728T183220Z
UID:1680-1697875200-1697907600@southeastwildernessmedicine.com
SUMMARY:ASHI CPR & AED Certification - Roswell
DESCRIPTION:
URL:https://southeastwildernessmedicine.com/event/ashi-cpr-aed-certification-atlanta-johnson-ferry-5-2-3-2-2-2-2-2-2-3-2-2-2-2-2-2-2-2-2/
LOCATION:Atlanta\, GA
CATEGORIES:ASHI CPR & AED Certification,Atlanta
END:VEVENT
BEGIN:VEVENT
DTSTART;TZID=UTC:20230916T080000
DTEND;TZID=UTC:20230916T170000
DTSTAMP:20260421T231418
CREATED:20220815T193625Z
LAST-MODIFIED:20230728T183550Z
UID:1679-1694851200-1694883600@southeastwildernessmedicine.com
SUMMARY:ASHI CPR & AED Certification - Roswell
DESCRIPTION:
URL:https://southeastwildernessmedicine.com/event/ashi-cpr-aed-certification-atlanta-johnson-ferry-5-2-3-2-2-2-2-2-2-3-2-2-2-2-2-2-2-2/
LOCATION:Atlanta\, GA
CATEGORIES:ASHI CPR & AED Certification,Atlanta
END:VEVENT
BEGIN:VEVENT
DTSTART;TZID=UTC:20230819T080000
DTEND;TZID=UTC:20230819T170000
DTSTAMP:20260421T231418
CREATED:20220815T193600Z
LAST-MODIFIED:20221216T183320Z
UID:1678-1692432000-1692464400@southeastwildernessmedicine.com
SUMMARY:ASHI CPR & AED Certification - Roswell
DESCRIPTION:
URL:https://southeastwildernessmedicine.com/event/ashi-cpr-aed-certification-atlanta-johnson-ferry-5-2-3-2-2-2-2-2-2-3-2-2-2-2-2-2-2/
LOCATION:Atlanta\, GA
CATEGORIES:ASHI CPR & AED Certification,Atlanta
END:VEVENT
BEGIN:VEVENT
DTSTART;TZID=UTC:20230722T080000
DTEND;TZID=UTC:20230722T170000
DTSTAMP:20260421T231418
CREATED:20220815T193537Z
LAST-MODIFIED:20221216T183621Z
UID:1677-1690012800-1690045200@southeastwildernessmedicine.com
SUMMARY:ASHI CPR & AED Certification - Roswell
DESCRIPTION:
URL:https://southeastwildernessmedicine.com/event/ashi-cpr-aed-certification-atlanta-johnson-ferry-5-2-3-2-2-2-2-2-2-3-2-2-2-2-2-2/
LOCATION:Atlanta\, GA
CATEGORIES:ASHI CPR & AED Certification,Atlanta
END:VEVENT
BEGIN:VEVENT
DTSTART;TZID=UTC:20230610T080000
DTEND;TZID=UTC:20230610T170000
DTSTAMP:20260421T231418
CREATED:20220815T204434Z
LAST-MODIFIED:20221216T183614Z
UID:1718-1686384000-1686416400@southeastwildernessmedicine.com
SUMMARY:ASHI CPR & AED Certification - Roswell
DESCRIPTION:
URL:https://southeastwildernessmedicine.com/event/ashi-cpr-aed-certification-atlanta-johnson-ferry-5-2-3-2-2-2-2-2-2-3-2-2-2-2-2-3/
LOCATION:Atlanta\, GA
CATEGORIES:ASHI CPR & AED Certification,Atlanta
END:VEVENT
BEGIN:VEVENT
DTSTART;TZID=UTC:20230513T080000
DTEND;TZID=UTC:20230513T170000
DTSTAMP:20260421T231418
CREATED:20220815T193453Z
LAST-MODIFIED:20221216T183604Z
UID:1676-1683964800-1683997200@southeastwildernessmedicine.com
SUMMARY:ASHI CPR & AED Certification - Roswell
DESCRIPTION:
URL:https://southeastwildernessmedicine.com/event/ashi-cpr-aed-certification-atlanta-johnson-ferry-5-2-3-2-2-2-2-2-2-3-2-2-2-2-2/
LOCATION:Atlanta\, GA
CATEGORIES:ASHI CPR & AED Certification,Atlanta
END:VEVENT
BEGIN:VEVENT
DTSTART;TZID=UTC:20230513T080000
DTEND;TZID=UTC:20230513T170000
DTSTAMP:20260421T231418
CREATED:20220815T193432Z
LAST-MODIFIED:20221216T183548Z
UID:1675-1683964800-1683997200@southeastwildernessmedicine.com
SUMMARY:ASHI CPR & AED Certification - Roswell
DESCRIPTION:
URL:https://southeastwildernessmedicine.com/event/ashi-cpr-aed-certification-atlanta-johnson-ferry-5-2-3-2-2-2-2-2-2-3-2-2-2-2/
LOCATION:Atlanta\, GA
CATEGORIES:ASHI CPR & AED Certification,Atlanta
END:VEVENT
BEGIN:VEVENT
DTSTART;TZID=UTC:20230408T080000
DTEND;TZID=UTC:20230408T170000
DTSTAMP:20260421T231418
CREATED:20220815T193405Z
LAST-MODIFIED:20221216T183540Z
UID:1674-1680940800-1680973200@southeastwildernessmedicine.com
SUMMARY:ASHI CPR & AED Certification - Roswell
DESCRIPTION:
URL:https://southeastwildernessmedicine.com/event/ashi-cpr-aed-certification-atlanta-johnson-ferry-5-2-3-2-2-2-2-2-2-3-2-2-2/
LOCATION:Atlanta\, GA
CATEGORIES:ASHI CPR & AED Certification,Atlanta
END:VEVENT
BEGIN:VEVENT
DTSTART;TZID=UTC:20230304T080000
DTEND;TZID=UTC:20230304T170000
DTSTAMP:20260421T231418
CREATED:20220815T193336Z
LAST-MODIFIED:20221216T183532Z
UID:1673-1677916800-1677949200@southeastwildernessmedicine.com
SUMMARY:ASHI CPR & AED Certification - Roswell
DESCRIPTION:
URL:https://southeastwildernessmedicine.com/event/ashi-cpr-aed-certification-atlanta-johnson-ferry-5-2-3-2-2-2-2-2-2-3-2-2/
LOCATION:Atlanta\, GA
CATEGORIES:ASHI CPR & AED Certification,Atlanta
END:VEVENT
BEGIN:VEVENT
DTSTART;TZID=UTC:20230218T080000
DTEND;TZID=UTC:20230218T170000
DTSTAMP:20260421T231418
CREATED:20220815T193309Z
LAST-MODIFIED:20221216T183524Z
UID:1672-1676707200-1676739600@southeastwildernessmedicine.com
SUMMARY:ASHI CPR & AED Certification - Roswell
DESCRIPTION:
URL:https://southeastwildernessmedicine.com/event/ashi-cpr-aed-certification-atlanta-johnson-ferry-5-2-3-2-2-2-2-2-2-3-2/
LOCATION:Atlanta\, GA
CATEGORIES:ASHI CPR & AED Certification,Atlanta
END:VEVENT
BEGIN:VEVENT
DTSTART;TZID=UTC:20230121T080000
DTEND;TZID=UTC:20230121T170000
DTSTAMP:20260421T231418
CREATED:20220815T193243Z
LAST-MODIFIED:20221216T183515Z
UID:1671-1674288000-1674320400@southeastwildernessmedicine.com
SUMMARY:ASHI CPR & AED Certification - Roswell
DESCRIPTION:
URL:https://southeastwildernessmedicine.com/event/ashi-cpr-aed-certification-atlanta-johnson-ferry-5-2-3-2-2-2-2-2-2-3/
LOCATION:Atlanta\, GA
CATEGORIES:ASHI CPR & AED Certification,Atlanta
END:VEVENT
END:VCALENDAR