BEGIN:VCALENDAR
VERSION:2.0
PRODID:-//SOLO Southeast at Nantahala Outdoor Center - ECPv6.6.4.2//NONSGML v1.0//EN
CALSCALE:GREGORIAN
METHOD:PUBLISH
X-ORIGINAL-URL:https://southeastwildernessmedicine.com
X-WR-CALDESC:Events for SOLO Southeast at Nantahala Outdoor Center
REFRESH-INTERVAL;VALUE=DURATION:PT1H
X-Robots-Tag:noindex
X-PUBLISHED-TTL:PT1H
BEGIN:VTIMEZONE
TZID:UTC
BEGIN:STANDARD
TZOFFSETFROM:+0000
TZOFFSETTO:+0000
TZNAME:UTC
DTSTART:20260101T000000
END:STANDARD
END:VTIMEZONE
BEGIN:VEVENT
DTSTART;TZID=UTC:20260205T080000
DTEND;TZID=UTC:20260302T170000
DTSTAMP:20260421T191125
CREATED:20250609T184208Z
LAST-MODIFIED:20250714T204300Z
UID:2651-1770278400-1772470800@southeastwildernessmedicine.com
SUMMARY:Emergency Medical Technician (Basic)
DESCRIPTION:
URL:https://southeastwildernessmedicine.com/event/emergency-medical-technician-basic-3-2-2-2-2-2-2-2-2-2-2-2-2-2-2-2-2/
LOCATION:Bryson City\, NC\, 13077 West Highway 19\, Bryson City\, NC\, 28713\, United States
CATEGORIES:EMT-Basic
END:VEVENT
BEGIN:VEVENT
DTSTART;TZID=UTC:20260205T080000
DTEND;TZID=UTC:20260308T170000
DTSTAMP:20260421T191125
CREATED:20250714T204548Z
LAST-MODIFIED:20251212T151202Z
UID:2687-1770278400-1772989200@southeastwildernessmedicine.com
SUMMARY:Wilderness EMT - Intensive
DESCRIPTION:
URL:https://southeastwildernessmedicine.com/event/wilderness-emt-intensive-3-2-2-3-2-2-2-2-3-2-2-3/
LOCATION:Bryson City\, NC\, 13077 West Highway 19\, Bryson City\, NC\, 28713\, United States
CATEGORIES:Wilderness EMT Intensive
END:VEVENT
BEGIN:VEVENT
DTSTART;TZID=UTC:20260214T080000
DTEND;TZID=UTC:20260222T170000
DTSTAMP:20260421T191125
CREATED:20250905T204223Z
LAST-MODIFIED:20251211T213943Z
UID:2817-1771056000-1771779600@southeastwildernessmedicine.com
SUMMARY:Wilderness First Responder
DESCRIPTION:
URL:https://southeastwildernessmedicine.com/event/wilderness-first-responder-13-2-2-2-2-2-2-2-2-2-3-2-2-2-2-2-2-2-2-2-2-2-3-2-2-2-2-2-2-2-2-2-2-2-2-2-2-2-2-2-2-2-2-2-2-2-2-2-2-2-2/
LOCATION:Bryson City\, NC\, 13077 West Highway 19\, Bryson City\, NC\, 28713\, United States
CATEGORIES:Wilderness First Responder
END:VEVENT
BEGIN:VEVENT
DTSTART;TZID=UTC:20260220T080000
DTEND;TZID=UTC:20260225T170000
DTSTAMP:20260421T191125
CREATED:20260114T140143Z
LAST-MODIFIED:20260114T140143Z
UID:3251-1771574400-1772038800@southeastwildernessmedicine.com
SUMMARY:WFA-WFR Bridge Course
DESCRIPTION:
URL:https://southeastwildernessmedicine.com/event/awfa-wfr-bridge-course-2-2-2-3-2-2-2-2-2-2-2/
LOCATION:Black Mountain\, NC
CATEGORIES:AWFA-WFR Bridge Course,Bryson City
END:VEVENT
BEGIN:VEVENT
DTSTART;TZID=UTC:20260221T080000
DTEND;TZID=UTC:20260222T170000
DTSTAMP:20260421T191125
CREATED:20251210T175520Z
LAST-MODIFIED:20251222T175344Z
UID:3074-1771660800-1771779600@southeastwildernessmedicine.com
SUMMARY:Wilderness First Aid
DESCRIPTION:
URL:https://southeastwildernessmedicine.com/event/wilderness-first-aid-3-2-2-2-2-2-2-2-2-2-2-2-2-2-2-2-2-2-2-2-2-2-2-2-2-2-2-2-2-2-2-2-2-2-2-2-2-2-2-2-2-2-2-2-2-2-4-2-2-2-2-2-2-2-5/
LOCATION:Sevierville\, TN
CATEGORIES:Wilderness First Aid
END:VEVENT
BEGIN:VEVENT
DTSTART;TZID=UTC:20260221T080000
DTEND;TZID=UTC:20260222T170000
DTSTAMP:20260421T191125
CREATED:20260202T214905Z
LAST-MODIFIED:20260202T215158Z
UID:3288-1771660800-1771779600@southeastwildernessmedicine.com
SUMMARY:Wilderness First Aid
DESCRIPTION:
URL:https://southeastwildernessmedicine.com/event/wilderness-first-aid-3-2-2-2-2-2-2-2-2-2-2-2-2-2-2-2-2-2-2-2-2-2-2-2-2-2-2-2-2-2-2-2-2-2-2-2-2-2-2-2-2-2-2-2-2-2-4-2-2-2-2-2-2-2-9/
LOCATION:Atlanta\, GA
CATEGORIES:Wilderness First Aid
END:VEVENT
END:VCALENDAR