BEGIN:VCALENDAR
VERSION:2.0
PRODID:-//SOLO Southeast at Nantahala Outdoor Center - ECPv6.6.4.2//NONSGML v1.0//EN
CALSCALE:GREGORIAN
METHOD:PUBLISH
X-WR-CALNAME:SOLO Southeast at Nantahala Outdoor Center
X-ORIGINAL-URL:https://southeastwildernessmedicine.com
X-WR-CALDESC:Events for SOLO Southeast at Nantahala Outdoor Center
REFRESH-INTERVAL;VALUE=DURATION:PT1H
X-Robots-Tag:noindex
X-PUBLISHED-TTL:PT1H
BEGIN:VTIMEZONE
TZID:UTC
BEGIN:STANDARD
TZOFFSETFROM:+0000
TZOFFSETTO:+0000
TZNAME:UTC
DTSTART:20230101T000000
END:STANDARD
END:VTIMEZONE
BEGIN:VEVENT
DTSTART;TZID=UTC:20230502T080000
DTEND;TZID=UTC:20230510T170000
DTSTAMP:20260421T181904
CREATED:20221121T163753Z
LAST-MODIFIED:20230113T195001Z
UID:1768-1683014400-1683738000@southeastwildernessmedicine.com
SUMMARY:Wilderness First Responder
DESCRIPTION:
URL:https://southeastwildernessmedicine.com/event/wilderness-first-responder-13-2-2-2-2-2-2-2-2-2-3-2-2-2-2-2-2-2-2-2-2-2-3/
LOCATION:Bryson City\, NC\, 13077 West Highway 19\, Bryson City\, NC\, 28713\, United States
CATEGORIES:Wilderness First Responder
END:VEVENT
BEGIN:VEVENT
DTSTART;TZID=UTC:20230509T080000
DTEND;TZID=UTC:20230510T080000
DTSTAMP:20260421T181904
CREATED:20220815T212831Z
LAST-MODIFIED:20221216T195312Z
UID:1734-1683619200-1683705600@southeastwildernessmedicine.com
SUMMARY:Wilderness First Responder Recertification
DESCRIPTION:
URL:https://southeastwildernessmedicine.com/event/wilderness-first-responder-recertification-15-2-2-2-2-2-2-2-2-2-2-2-2-2-2-2-2-2-2-2-2-2-2-2-2-2-2-2-3-2-2-2-2-2-2-3/
LOCATION:Bryson City\, NC\, 13077 West Highway 19\, Bryson City\, NC\, 28713\, United States
CATEGORIES:Wilderness First Responder Recertification
END:VEVENT
BEGIN:VEVENT
DTSTART;TZID=UTC:20230509T080000
DTEND;TZID=UTC:20230517T170000
DTSTAMP:20260421T181904
CREATED:20230113T195225Z
LAST-MODIFIED:20230113T195225Z
UID:1832-1683619200-1684342800@southeastwildernessmedicine.com
SUMMARY:Wilderness First Responder
DESCRIPTION:
URL:https://southeastwildernessmedicine.com/event/wilderness-first-responder-13-2-2-2-2-2-2-2-2-2-3-2-2-2-2-2-2-2-2-2-2-2-3-2/
LOCATION:Collegedale\, TN
CATEGORIES:Wilderness First Responder
END:VEVENT
END:VCALENDAR