BEGIN:VCALENDAR
VERSION:2.0
PRODID:-//SOLO Southeast at Nantahala Outdoor Center - ECPv6.6.4.2//NONSGML v1.0//EN
CALSCALE:GREGORIAN
METHOD:PUBLISH
X-ORIGINAL-URL:https://southeastwildernessmedicine.com
X-WR-CALDESC:Events for SOLO Southeast at Nantahala Outdoor Center
REFRESH-INTERVAL;VALUE=DURATION:PT1H
X-Robots-Tag:noindex
X-PUBLISHED-TTL:PT1H
BEGIN:VTIMEZONE
TZID:UTC
BEGIN:STANDARD
TZOFFSETFROM:+0000
TZOFFSETTO:+0000
TZNAME:UTC
DTSTART:20230101T000000
END:STANDARD
END:VTIMEZONE
BEGIN:VEVENT
DTSTART;TZID=UTC:20230204T080000
DTEND;TZID=UTC:20230227T170000
DTSTAMP:20260423T224918
CREATED:20220824T192739Z
LAST-MODIFIED:20221216T175249Z
UID:1750-1675497600-1677517200@southeastwildernessmedicine.com
SUMMARY:Emergency Medical Technician (Basic)
DESCRIPTION:
URL:https://southeastwildernessmedicine.com/event/emergency-medical-technician-basic-3-2-2-2-2-2-2-2/
LOCATION:Bryson City\, NC\, 13077 West Highway 19\, Bryson City\, NC\, 28713\, United States
CATEGORIES:EMT-Basic
END:VEVENT
BEGIN:VEVENT
DTSTART;TZID=UTC:20230204T080000
DTEND;TZID=UTC:20230305T170000
DTSTAMP:20260423T224918
CREATED:20220824T193653Z
LAST-MODIFIED:20221216T173658Z
UID:1753-1675497600-1678035600@southeastwildernessmedicine.com
SUMMARY:Wilderness EMT - Intensive
DESCRIPTION:
URL:https://southeastwildernessmedicine.com/event/wilderness-emt-intensive-3-2-2-3/
LOCATION:Bryson City\, NC\, 13077 West Highway 19\, Bryson City\, NC\, 28713\, United States
CATEGORIES:Wilderness EMT Intensive
END:VEVENT
BEGIN:VEVENT
DTSTART;TZID=UTC:20230225T080000
DTEND;TZID=UTC:20230225T170000
DTSTAMP:20260423T224918
CREATED:20220815T204826Z
LAST-MODIFIED:20221216T184356Z
UID:1720-1677312000-1677344400@southeastwildernessmedicine.com
SUMMARY:ASHI CPR & AED Certification
DESCRIPTION:
URL:https://southeastwildernessmedicine.com/event/ashi-cpr-aed-certification-31-2-2-2-2-2-2-2-2-2-2-2-2-2-2-2-2-2-2-2-2-2-2-2-2-2-2-2-2-2-2-3-2-2-2-2-2-2-2-2-2-2-2-2-2-2-2-2-2-2-2-2-2-2-2-2-2-3-2-2-2-3/
LOCATION:Bryson City\, NC\, 13077 West Highway 19\, Bryson City\, NC\, 28713\, United States
CATEGORIES:ASHI CPR & AED Certification,Bryson City
END:VEVENT
BEGIN:VEVENT
DTSTART;TZID=UTC:20230225T080000
DTEND;TZID=UTC:20230226T170000
DTSTAMP:20260423T224918
CREATED:20220815T202050Z
LAST-MODIFIED:20221216T195225Z
UID:1706-1677312000-1677430800@southeastwildernessmedicine.com
SUMMARY:Wilderness First Responder Recertification
DESCRIPTION:
URL:https://southeastwildernessmedicine.com/event/wilderness-first-responder-recertification-15-2-2-2-2-2-2-2-2-2-2-2-2-2-2-2-2-2-2-2-2-2-2-2-2-2-2-2-3-2-2/
LOCATION:Bryson City\, NC\, 13077 West Highway 19\, Bryson City\, NC\, 28713\, United States
CATEGORIES:Wilderness First Responder Recertification
END:VEVENT
END:VCALENDAR